BEGIN:VCALENDAR
VERSION:2.0
PRODID:-//AVPL.nl - ECPv6.15.20//NONSGML v1.0//EN
CALSCALE:GREGORIAN
METHOD:PUBLISH
X-WR-CALNAME:AVPL.nl
X-ORIGINAL-URL:https://www.avpl.nl
X-WR-CALDESC:Evenementen voor AVPL.nl
REFRESH-INTERVAL;VALUE=DURATION:PT1H
X-Robots-Tag:noindex
X-PUBLISHED-TTL:PT1H
BEGIN:VTIMEZONE
TZID:Europe/Amsterdam
BEGIN:DAYLIGHT
TZOFFSETFROM:+0100
TZOFFSETTO:+0200
TZNAME:CEST
DTSTART:20230326T010000
END:DAYLIGHT
BEGIN:STANDARD
TZOFFSETFROM:+0200
TZOFFSETTO:+0100
TZNAME:CET
DTSTART:20231029T010000
END:STANDARD
BEGIN:DAYLIGHT
TZOFFSETFROM:+0100
TZOFFSETTO:+0200
TZNAME:CEST
DTSTART:20240331T010000
END:DAYLIGHT
BEGIN:STANDARD
TZOFFSETFROM:+0200
TZOFFSETTO:+0100
TZNAME:CET
DTSTART:20241027T010000
END:STANDARD
BEGIN:DAYLIGHT
TZOFFSETFROM:+0100
TZOFFSETTO:+0200
TZNAME:CEST
DTSTART:20250330T010000
END:DAYLIGHT
BEGIN:STANDARD
TZOFFSETFROM:+0200
TZOFFSETTO:+0100
TZNAME:CET
DTSTART:20251026T010000
END:STANDARD
END:VTIMEZONE
BEGIN:VEVENT
DTSTART;TZID=Europe/Amsterdam:20240914T093000
DTEND;TZID=Europe/Amsterdam:20240914T163000
DTSTAMP:20260424T165955
CREATED:20230605T140413Z
LAST-MODIFIED:20240527T141511Z
UID:10000010-1726306200-1726331400@www.avpl.nl
SUMMARY:Krachtig communiceren (Amersfoort)
DESCRIPTION:Deze training ‘Krachtig communiceren’ wordt gegeven in Amersfoort op drie zaterdagen van 9.30 tot 16.30 uur. Voor koffie\, thee en lunch wordt gezorgd. Ook is het lesmateriaal bij de prijs inbegrepen. \nTijdens deze training ga je aan de slag met jouw persoonlijke leerdoel. In de weken tussen de trainingsdagen door\, zet je de eerste stappen in de praktijk. Met als resultaat dat je sterker in je schoenen komt te staan en op een krachtige en authentieke wijze communiceert met je omgeving. Meer informatie over deze training Krachtig communiceren.\n 
URL:https://www.avpl.nl/scholing/krachtig-communiceren/
LOCATION:Amersfoort\, 15 Algolweg\, Amersfoort\, Utrecht\, 3821 BG\, Nederland
CATEGORIES:Amersfoort,Krachtig communiceren,Trainingen
ATTACH;FMTTYPE=image/jpeg:https://www.avpl.nl/wp-content/uploads/2023/06/krachtig-communiceren.jpg
GEO:52.1732387;5.4164663
X-APPLE-STRUCTURED-LOCATION;VALUE=URI;X-ADDRESS=Amersfoort 15 Algolweg Amersfoort Utrecht 3821 BG Nederland;X-APPLE-RADIUS=500;X-TITLE=15 Algolweg:geo:5.4164663,52.1732387
END:VEVENT
END:VCALENDAR