BEGIN:VCALENDAR
VERSION:2.0
PRODID:-//AVPL.nl - ECPv6.15.20//NONSGML v1.0//EN
CALSCALE:GREGORIAN
METHOD:PUBLISH
X-WR-CALNAME:AVPL.nl
X-ORIGINAL-URL:https://www.avpl.nl
X-WR-CALDESC:Evenementen voor AVPL.nl
REFRESH-INTERVAL;VALUE=DURATION:PT1H
X-Robots-Tag:noindex
X-PUBLISHED-TTL:PT1H
BEGIN:VTIMEZONE
TZID:Europe/Amsterdam
BEGIN:DAYLIGHT
TZOFFSETFROM:+0100
TZOFFSETTO:+0200
TZNAME:CEST
DTSTART:20250330T010000
END:DAYLIGHT
BEGIN:STANDARD
TZOFFSETFROM:+0200
TZOFFSETTO:+0100
TZNAME:CET
DTSTART:20251026T010000
END:STANDARD
BEGIN:DAYLIGHT
TZOFFSETFROM:+0100
TZOFFSETTO:+0200
TZNAME:CEST
DTSTART:20260329T010000
END:DAYLIGHT
BEGIN:STANDARD
TZOFFSETFROM:+0200
TZOFFSETTO:+0100
TZNAME:CET
DTSTART:20261025T010000
END:STANDARD
BEGIN:DAYLIGHT
TZOFFSETFROM:+0100
TZOFFSETTO:+0200
TZNAME:CEST
DTSTART:20270328T010000
END:DAYLIGHT
BEGIN:STANDARD
TZOFFSETFROM:+0200
TZOFFSETTO:+0100
TZNAME:CET
DTSTART:20271031T010000
END:STANDARD
END:VTIMEZONE
BEGIN:VEVENT
DTSTART;TZID=Europe/Amsterdam:20260120T190000
DTEND;TZID=Europe/Amsterdam:20260120T210000
DTSTAMP:20260425T213718
CREATED:20250819T091712Z
LAST-MODIFIED:20250819T091712Z
UID:25591-1768935600-1768942800@www.avpl.nl
SUMMARY:Gratis online informatieavond NLP
DESCRIPTION:Wat kan NLP voor mij betekenen?\nBen jij benieuwd wat NLP voor jou kan betekenen? Maak kennis met NLP\, de trainer en de academie tijdens de gratis online NLP informatieavond. \nKrijg antwoord op vragen zoals: \n\nWat houdt NLP in?\nHoe pas je NLP toe in het dagelijks leven?\nWie is Academie voor Psychologica (AVPL)?\nDoor wie wordt de NLP training gegeven?\nWat zijn de belangrijkste waarden en visie van AVPL?\nWat zijn de NLP eisen van NVNLP (Nederlandse Vereniging van NLP)?\n\nTijdstip:\n19.00 uur – 21.00 uur \nHoe werkt \n\nWe werken met kleine groepen (maximaal 12 deelnemers)\nGraag gaan wij de interactie aan om er een zinvolle avond van te maken\nEr is voldoende gelegenheid voor het stellen van vragen\n\nDeelnemen\nVul onderstaand formulier in om je aan te melden voor deze informatieavond. \n 
URL:https://www.avpl.nl/scholing/gratis-informatieavond-nlp-online-5/
LOCATION:Online
CATEGORIES:NLP Informatieavond (Gratis),NLP opleidingen,Online
ATTACH;FMTTYPE=image/jpeg:https://www.avpl.nl/wp-content/uploads/2018/06/informatieavond-nlp-opleiding.jpg
END:VEVENT
END:VCALENDAR